BEGIN:VCALENDAR
VERSION:2.0
PRODID:-//Gateway College - ECPv5.16.1.1//NONSGML v1.0//EN
CALSCALE:GREGORIAN
METHOD:PUBLISH
X-WR-CALNAME:Gateway College
X-ORIGINAL-URL:https://gateway.ac.uk
X-WR-CALDESC:Events for Gateway College
BEGIN:VTIMEZONE
TZID:UTC
BEGIN:STANDARD
TZOFFSETFROM:+0000
TZOFFSETTO:+0000
TZNAME:UTC
DTSTART:20250101T000000
END:STANDARD
END:VTIMEZONE
BEGIN:VEVENT
DTSTART;TZID=UTC:20250623T090000
DTEND;TZID=UTC:20250623T120000
DTSTAMP:20260420T080319
CREATED:20250515T124504Z
LAST-MODIFIED:20250613T090733Z
UID:15169-1750669200-1750680000@gateway.ac.uk
SUMMARY:New Students Welcome Event
DESCRIPTION:All of our new students who have been offered a conditional place to study at Gateway Sixth Form College in Autumn 2025\, are invited to a Welcome Event this summer term \nWe ask students to check their e-mails and post in the next few weeks for further updates on the Welcome Event \nMore details coming soon on this page \n 
URL:https://gateway.ac.uk/event/welcome-event-2025/
LOCATION:Gateway College\, 17 Colin Grundy Drive\, Hamilton\, Leicester\, LE5 1GA\, United Kingdom
ATTACH;FMTTYPE=image/jpeg:https://gateway.ac.uk/wp-content/uploads/2025/06/Event-banner-for-website-Welcome-Event-23.06.jpg
END:VEVENT
END:VCALENDAR