BEGIN:VCALENDAR
VERSION:2.0
PRODID:-//Gateway College - ECPv5.16.1.1//NONSGML v1.0//EN
CALSCALE:GREGORIAN
METHOD:PUBLISH
X-WR-CALNAME:Gateway College
X-ORIGINAL-URL:https://gateway.ac.uk
X-WR-CALDESC:Events for Gateway College
BEGIN:VTIMEZONE
TZID:UTC
BEGIN:STANDARD
TZOFFSETFROM:+0000
TZOFFSETTO:+0000
TZNAME:UTC
DTSTART:20220101T000000
END:STANDARD
END:VTIMEZONE
BEGIN:VEVENT
DTSTART;TZID=UTC:20220104T090000
DTEND;TZID=UTC:20220211T120000
DTSTAMP:20260421T081617
CREATED:20211207T155020Z
LAST-MODIFIED:20211207T155602Z
UID:11249-1641286800-1644580800@gateway.ac.uk
SUMMARY:Start of Spring Term
DESCRIPTION:The Spring 2022 college term starts on Tuesday 4th January 2021. \nWe wish everyone a Happy New Year and an exciting start to the new term. \nDownload a copy of the full term dates here – https://gateway.ac.uk/about-us/term-dates/ 
URL:https://gateway.ac.uk/event/start-of-spring-term/
ATTACH;FMTTYPE=image/jpeg:https://gateway.ac.uk/wp-content/uploads/2021/12/Start-of-Term-January-2022-banner-for-Events-page.jpg
END:VEVENT
END:VCALENDAR