BEGIN:VCALENDAR
VERSION:2.0
PRODID:-//Gateway College - ECPv5.16.1.1//NONSGML v1.0//EN
CALSCALE:GREGORIAN
METHOD:PUBLISH
X-WR-CALNAME:Gateway College
X-ORIGINAL-URL:https://gateway.ac.uk
X-WR-CALDESC:Events for Gateway College
BEGIN:VTIMEZONE
TZID:UTC
BEGIN:STANDARD
TZOFFSETFROM:+0000
TZOFFSETTO:+0000
TZNAME:UTC
DTSTART:20240101T000000
END:STANDARD
END:VTIMEZONE
BEGIN:VEVENT
DTSTART;TZID=UTC:20240517T093000
DTEND;TZID=UTC:20240517T150000
DTSTAMP:20260420T090202
CREATED:20240422T094518Z
LAST-MODIFIED:20240426T131526Z
UID:13827-1715938200-1715958000@gateway.ac.uk
SUMMARY:Provider Insight Day for T Level and T Level Foundation Year Providers
DESCRIPTION:An excellent opportunity for planning providers to gain valuable insights during an in-person visit with this experienced provider. \nThe event will feature presentations from senior leaders\, curriculum staff\, and the employer engagement team\, allowing providers to learn from their T Level and T Level Foundation Year journey and the challenges that were encountered along the way. Furthermore\, a facility tour will provide an up-close look at how the Specialist Equipment Allocation has been effectively utilised. \nThis event is open to all providers who are in the process of planning T Levels or T Level Foundation Year programmes\, especially those involved in the delivery of one or more of the following routes: \n\nHealth and Science\nDigital\nEducation & Early Years\nBusiness and Administration\n\nAdditionally\, Gateway Sixth Form College are planning to introduce new routes next year. While they will be unable to offer advice\, they are eager to connect with other providers who are also in the process of developing the following routes: \n\nCraft and Design – Fashion Maker\nMedia\, Broadcast and Design – Content Creator\n\nBOOK YOUR PLACE: https://www.aoc.co.uk/events-training/events/provider-insight-day-gateway-sixth-form-college
URL:https://gateway.ac.uk/event/provider-insight-day-t-levels/
LOCATION:Gateway College\, 17 Colin Grundy Drive\, Hamilton\, Leicester\, LE5 1GA\, United Kingdom
ATTACH;FMTTYPE=image/jpeg:https://gateway.ac.uk/wp-content/uploads/2024/04/Event-banner-for-website-TL-AOC-event.jpg
END:VEVENT
END:VCALENDAR