BEGIN:VCALENDAR
VERSION:2.0
PRODID:-//Gateway College - ECPv5.16.1.1//NONSGML v1.0//EN
CALSCALE:GREGORIAN
METHOD:PUBLISH
X-WR-CALNAME:Gateway College
X-ORIGINAL-URL:https://gateway.ac.uk
X-WR-CALDESC:Events for Gateway College
BEGIN:VTIMEZONE
TZID:UTC
BEGIN:STANDARD
TZOFFSETFROM:+0000
TZOFFSETTO:+0000
TZNAME:UTC
DTSTART:20240101T000000
END:STANDARD
END:VTIMEZONE
BEGIN:VEVENT
DTSTART;TZID=UTC:20240902T083000
DTEND;TZID=UTC:20240927T160000
DTSTAMP:20260420T075410
CREATED:20240704T095521Z
LAST-MODIFIED:20240830T104829Z
UID:14030-1725265800-1727452800@gateway.ac.uk
SUMMARY:Enrolment for Academic Year 2024 - 2025
DESCRIPTION:We are still accepting applications for some of our courses \nIf you or someone you know is interested in making an application to start this academic year (2024)\, then click here to Apply Now \nOur Late Enrolment period continues from Monday 2nd September 2024
URL:https://gateway.ac.uk/event/enrolment-2024/
LOCATION:Gateway College\, 17 Colin Grundy Drive\, Hamilton\, Leicester\, LE5 1GA\, United Kingdom
ATTACH;FMTTYPE=image/jpeg:https://gateway.ac.uk/wp-content/uploads/2024/07/Event-banner-for-website-Sep-2024-College-Enrolment.jpg
END:VEVENT
END:VCALENDAR